BEGIN:VCALENDAR
VERSION:2.0
PRODID:-//Arcamuseo del Casentino - ECPv6.3.6//NONSGML v1.0//EN
CALSCALE:GREGORIAN
METHOD:PUBLISH
X-ORIGINAL-URL:https://arcamuseocasentino.it
X-WR-CALDESC:Eventi per Arcamuseo del Casentino
REFRESH-INTERVAL;VALUE=DURATION:PT1H
X-Robots-Tag:noindex
X-PUBLISHED-TTL:PT1H
BEGIN:VTIMEZONE
TZID:UTC
BEGIN:STANDARD
TZOFFSETFROM:+0000
TZOFFSETTO:+0000
TZNAME:UTC
DTSTART:20240101T000000
END:STANDARD
TZID:Europe/Rome
BEGIN:DAYLIGHT
TZOFFSETFROM:+0100
TZOFFSETTO:+0200
TZNAME:CEST
DTSTART:20230326T010000
END:DAYLIGHT
BEGIN:STANDARD
TZOFFSETFROM:+0200
TZOFFSETTO:+0100
TZNAME:CET
DTSTART:20231029T010000
END:STANDARD
BEGIN:DAYLIGHT
TZOFFSETFROM:+0100
TZOFFSETTO:+0200
TZNAME:CEST
DTSTART:20240331T010000
END:DAYLIGHT
BEGIN:STANDARD
TZOFFSETFROM:+0200
TZOFFSETTO:+0100
TZNAME:CET
DTSTART:20241027T010000
END:STANDARD
END:VTIMEZONE
BEGIN:VEVENT
DTSTART;TZID=UTC:20240317T170000
DTEND;TZID=UTC:20240630T190000
DTSTAMP:20260420T214118
CREATED:20240327T082818Z
LAST-MODIFIED:20240327T105837Z
UID:8578-1710694800-1719774000@arcamuseocasentino.it
SUMMARY:Tracce di Sacro - Mostra fotografica di Alessandro Bartolini
DESCRIPTION:Museo Archeologico del Casentino “Piero Albertoni” – Bibbiena (AR)17 marzo / 30 giugno 2024\nI tabernacoli\, le edicole\, le nicchie non sono un’invenzione recente. Non sono neppure l’espressione peculiare della pietà popolare cristiana.Per rintracciarne l’origine\, bisogna risalire almeno agli antichi ebrei. Nella loro lingua il termine tabernacolo indicava il santuario portatile o tenda\, in cui questo popolo nomade conservava gli oggetti sacri\, in particolare l’arca. Gli antichi romani\, discendenti dal dio della guerra\, usavano questo nome per designare la tenda costruita perché il comandante militare potesse ricevere e decifrare gli auspici. I cristiani non hanno fatto che sviluppare il senso religioso del nome tabernacolo\, rendendolo il luogo in cui custodire nonsolo immagini sacre\, ma anche l’Eucaristia.Un po’ per volta le nostre strade e le facciate degli edifici si sono popolate di tabernacoli o di nicchie con le immagini di santi ingaggiati dai devoti perché\, dietro il compenso di un fiore o di un lumino\, intervenissero a tempo pieno nella protezione di persone\, animali e cose. I campi poi sono stati cosparsi di croci: dai punti salienti\, meta di solito delle rogazioni\, esse dovevano tutelare le sementi\, in epoche in cui dalla resa dell’agricoltura locale dipendeva la sopravvivenza della gente.Sono questi i “nodi cruciali” ad essere presenti con semplice bellezza: tracce di un profondo senso del sacro e del divino che segnano ancora oggi il paesaggio del Casentino\, e di cui questa mostra fotografica vuole darne testimonianza.
URL:https://arcamuseocasentino.it/evento/tracce-di-sacro-mostra-fotografica-di-alessandro-bartolini/
ATTACH;FMTTYPE=image/jpeg:https://arcamuseocasentino.it/wp-content/uploads/2024/02/Tracce-di-sacro-2024-rid.jpg
END:VEVENT
BEGIN:VEVENT
DTSTART;VALUE=DATE:20240101
DTEND;VALUE=DATE:20250101
DTSTAMP:20260420T214118
CREATED:20210915T012411Z
LAST-MODIFIED:20250207T134742Z
UID:844-1704067200-1735689599@arcamuseocasentino.it
SUMMARY:Valli d'Arte\, una Toscana tutta da svelare - Valtiberina Casentino Card
DESCRIPTION:Museo Archeologico del Casentino “Piero Albertoni” – Bibbiena (AR)17 marzo / 30 giugno 2024\nI tabernacoli\, le edicole\, le nicchie non sono un’invenzione recente. Non sono neppure l’espressione peculiare della pietà popolare cristiana.Per rintracciarne l’origine\, bisogna risalire almeno agli antichi ebrei. Nella loro lingua il termine tabernacolo indicava il santuario portatile o tenda\, in cui questo popolo nomade conservava gli oggetti sacri\, in particolare l’arca. Gli antichi romani\, discendenti dal dio della guerra\, usavano questo nome per designare la tenda costruita perché il comandante militare potesse ricevere e decifrare gli auspici. I cristiani non hanno fatto che sviluppare il senso religioso del nome tabernacolo\, rendendolo il luogo in cui custodire nonsolo immagini sacre\, ma anche l’Eucaristia.Un po’ per volta le nostre strade e le facciate degli edifici si sono popolate di tabernacoli o di nicchie con le immagini di santi ingaggiati dai devoti perché\, dietro il compenso di un fiore o di un lumino\, intervenissero a tempo pieno nella protezione di persone\, animali e cose. I campi poi sono stati cosparsi di croci: dai punti salienti\, meta di solito delle rogazioni\, esse dovevano tutelare le sementi\, in epoche in cui dalla resa dell’agricoltura locale dipendeva la sopravvivenza della gente.Sono questi i “nodi cruciali” ad essere presenti con semplice bellezza: tracce di un profondo senso del sacro e del divino che segnano ancora oggi il paesaggio del Casentino\, e di cui questa mostra fotografica vuole darne testimonianza.
URL:https://arcamuseocasentino.it/evento/valli-darte-una-toscana-tutta-da-svelare-valtiberina-casentino-card/
CATEGORIES:Tour
ATTACH;FMTTYPE=image/jpeg:https://arcamuseocasentino.it/wp-content/uploads/2021/09/valtiberinacasentinointoscanacard-logo.jpg
END:VEVENT
BEGIN:VEVENT
DTSTART;VALUE=DATE:20231125
DTEND;VALUE=DATE:20240121
DTSTAMP:20260420T214118
CREATED:20210915T012411Z
LAST-MODIFIED:20240304T154915Z
UID:846-1700870400-1705795199@arcamuseocasentino.it
SUMMARY:Piccoli Musei Narranti
DESCRIPTION:Museo Archeologico del Casentino “Piero Albertoni” – Bibbiena (AR)17 marzo / 30 giugno 2024\nI tabernacoli\, le edicole\, le nicchie non sono un’invenzione recente. Non sono neppure l’espressione peculiare della pietà popolare cristiana.Per rintracciarne l’origine\, bisogna risalire almeno agli antichi ebrei. Nella loro lingua il termine tabernacolo indicava il santuario portatile o tenda\, in cui questo popolo nomade conservava gli oggetti sacri\, in particolare l’arca. Gli antichi romani\, discendenti dal dio della guerra\, usavano questo nome per designare la tenda costruita perché il comandante militare potesse ricevere e decifrare gli auspici. I cristiani non hanno fatto che sviluppare il senso religioso del nome tabernacolo\, rendendolo il luogo in cui custodire nonsolo immagini sacre\, ma anche l’Eucaristia.Un po’ per volta le nostre strade e le facciate degli edifici si sono popolate di tabernacoli o di nicchie con le immagini di santi ingaggiati dai devoti perché\, dietro il compenso di un fiore o di un lumino\, intervenissero a tempo pieno nella protezione di persone\, animali e cose. I campi poi sono stati cosparsi di croci: dai punti salienti\, meta di solito delle rogazioni\, esse dovevano tutelare le sementi\, in epoche in cui dalla resa dell’agricoltura locale dipendeva la sopravvivenza della gente.Sono questi i “nodi cruciali” ad essere presenti con semplice bellezza: tracce di un profondo senso del sacro e del divino che segnano ancora oggi il paesaggio del Casentino\, e di cui questa mostra fotografica vuole darne testimonianza.
URL:https://arcamuseocasentino.it/evento/piccoli-musei-narranti/
CATEGORIES:Tour
ATTACH;FMTTYPE=image/jpeg:https://arcamuseocasentino.it/wp-content/uploads/2021/09/125566382_3460497347361758_8565537800082787130_o.jpeg
END:VEVENT
BEGIN:VEVENT
DTSTART;TZID=Europe/Rome:20241231T120000
DTEND;TZID=Europe/Rome:20241231T120000
DTSTAMP:20260420T214118
CREATED:20210916T012410Z
LAST-MODIFIED:20240304T195634Z
UID:841-1735646400-1735646400@arcamuseocasentino.it
SUMMARY:MAD: Museo a Distanza. Un viaggio nel tempo e nello spazio
DESCRIPTION:Museo Archeologico del Casentino “Piero Albertoni” – Bibbiena (AR)17 marzo / 30 giugno 2024\nI tabernacoli\, le edicole\, le nicchie non sono un’invenzione recente. Non sono neppure l’espressione peculiare della pietà popolare cristiana.Per rintracciarne l’origine\, bisogna risalire almeno agli antichi ebrei. Nella loro lingua il termine tabernacolo indicava il santuario portatile o tenda\, in cui questo popolo nomade conservava gli oggetti sacri\, in particolare l’arca. Gli antichi romani\, discendenti dal dio della guerra\, usavano questo nome per designare la tenda costruita perché il comandante militare potesse ricevere e decifrare gli auspici. I cristiani non hanno fatto che sviluppare il senso religioso del nome tabernacolo\, rendendolo il luogo in cui custodire nonsolo immagini sacre\, ma anche l’Eucaristia.Un po’ per volta le nostre strade e le facciate degli edifici si sono popolate di tabernacoli o di nicchie con le immagini di santi ingaggiati dai devoti perché\, dietro il compenso di un fiore o di un lumino\, intervenissero a tempo pieno nella protezione di persone\, animali e cose. I campi poi sono stati cosparsi di croci: dai punti salienti\, meta di solito delle rogazioni\, esse dovevano tutelare le sementi\, in epoche in cui dalla resa dell’agricoltura locale dipendeva la sopravvivenza della gente.Sono questi i “nodi cruciali” ad essere presenti con semplice bellezza: tracce di un profondo senso del sacro e del divino che segnano ancora oggi il paesaggio del Casentino\, e di cui questa mostra fotografica vuole darne testimonianza.
URL:https://arcamuseocasentino.it/evento/mad-museo-a-distanza-un-viaggio-nel-tempo-e-nello-spazio/
CATEGORIES:Tour
ATTACH;FMTTYPE=image/jpeg:https://arcamuseocasentino.it/wp-content/uploads/2021/09/MAD_locandina_generica.jpeg
END:VEVENT
END:VCALENDAR